BEGIN:VCALENDAR
VERSION:2.0
PRODID:-//S:t Arild Golfklubb - ECPv6.15.15//NONSGML v1.0//EN
CALSCALE:GREGORIAN
METHOD:PUBLISH
X-WR-CALNAME:S:t Arild Golfklubb
X-ORIGINAL-URL:https://www.starild.se
X-WR-CALDESC:Händelser för S:t Arild Golfklubb
REFRESH-INTERVAL;VALUE=DURATION:PT1H
X-Robots-Tag:noindex
X-PUBLISHED-TTL:PT1H
BEGIN:VTIMEZONE
TZID:Europe/Stockholm
BEGIN:DAYLIGHT
TZOFFSETFROM:+0100
TZOFFSETTO:+0200
TZNAME:CEST
DTSTART:20240331T010000
END:DAYLIGHT
BEGIN:STANDARD
TZOFFSETFROM:+0200
TZOFFSETTO:+0100
TZNAME:CET
DTSTART:20241027T010000
END:STANDARD
BEGIN:DAYLIGHT
TZOFFSETFROM:+0100
TZOFFSETTO:+0200
TZNAME:CEST
DTSTART:20250330T010000
END:DAYLIGHT
BEGIN:STANDARD
TZOFFSETFROM:+0200
TZOFFSETTO:+0100
TZNAME:CET
DTSTART:20251026T010000
END:STANDARD
BEGIN:DAYLIGHT
TZOFFSETFROM:+0100
TZOFFSETTO:+0200
TZNAME:CEST
DTSTART:20260329T010000
END:DAYLIGHT
BEGIN:STANDARD
TZOFFSETFROM:+0200
TZOFFSETTO:+0100
TZNAME:CET
DTSTART:20261025T010000
END:STANDARD
END:VTIMEZONE
BEGIN:VEVENT
DTSTART;TZID=Europe/Stockholm:20250615T090000
DTEND;TZID=Europe/Stockholm:20250615T140000
DTSTAMP:20260425T144708
CREATED:20250606T062030Z
LAST-MODIFIED:20250606T075216Z
UID:10000017-1749978000-1749996000@www.starild.se
SUMMARY:Brunnby Electa Scramble
DESCRIPTION:Brunnby Electas tävling spelas som en fyrmanna Texas scramble vilket innebär att det är fyra tvingande utslag per spelare. \n\n\n\nDet är kanonstart klockan 09:00 och sedan avslutas eftermiddagen med prisutdelning på Villa Brunnby. Utöver huvudtävlingen\, med riktigt fina priser\, så arrangeras även närmast flagg på hål 6 och 17. \n\n\n\nAnmälan görs lagvis på Min Golf under: https://mingolf.golf.se/Competition/4806547 senast den 12 juni klockan 12:00. Startavgift är 140 kr per spelare. \n\n\n\nPrecis som vanligt i våra lagtävlingar så är det även möjligt att anmäla sig individuellt så parar vi ihop dig med andra spelare som söker medspelare. Vid udda antal gäller anmälningsordning. \n\n\n\nGenom spelutbytet så betalar medlemmar i S:t Arild\, Mölle och Höganäs ingen tävlingsgreenfee. Övriga gäster från andra klubbar betalar endast 400 kr i tävlingsgreenfee så ta gärna med dig vänner från andra klubbar. \n\n\n\nHoppas att du har lust och möjlighet att vara med – varmt välkommen! 😊 \n\n\n\nMed vänliga hälsningar\,Tävlingskommittén S:t Arild Golfklubb \n\n\n\n#dingolfvårpassion
URL:https://www.starild.se/kalender/brunnby-electa-scramble/
ATTACH;FMTTYPE=image/png:https://www.starild.se/wp-content/uploads/sites/6/2025/06/Brunnby-Electa-Scramble-banner-2025.png
END:VEVENT
END:VCALENDAR