BEGIN:VCALENDAR
VERSION:2.0
PRODID:-//S:t Arild Golfklubb - ECPv6.15.15//NONSGML v1.0//EN
CALSCALE:GREGORIAN
METHOD:PUBLISH
X-WR-CALNAME:S:t Arild Golfklubb
X-ORIGINAL-URL:https://www.starild.se
X-WR-CALDESC:Händelser för S:t Arild Golfklubb
REFRESH-INTERVAL;VALUE=DURATION:PT1H
X-Robots-Tag:noindex
X-PUBLISHED-TTL:PT1H
BEGIN:VTIMEZONE
TZID:Europe/Stockholm
BEGIN:DAYLIGHT
TZOFFSETFROM:+0100
TZOFFSETTO:+0200
TZNAME:CEST
DTSTART:20250330T010000
END:DAYLIGHT
BEGIN:STANDARD
TZOFFSETFROM:+0200
TZOFFSETTO:+0100
TZNAME:CET
DTSTART:20251026T010000
END:STANDARD
BEGIN:DAYLIGHT
TZOFFSETFROM:+0100
TZOFFSETTO:+0200
TZNAME:CEST
DTSTART:20260329T010000
END:DAYLIGHT
BEGIN:STANDARD
TZOFFSETFROM:+0200
TZOFFSETTO:+0100
TZNAME:CET
DTSTART:20261025T010000
END:STANDARD
BEGIN:DAYLIGHT
TZOFFSETFROM:+0100
TZOFFSETTO:+0200
TZNAME:CEST
DTSTART:20270328T010000
END:DAYLIGHT
BEGIN:STANDARD
TZOFFSETFROM:+0200
TZOFFSETTO:+0100
TZNAME:CET
DTSTART:20271031T010000
END:STANDARD
END:VTIMEZONE
BEGIN:VEVENT
DTSTART;TZID=Europe/Stockholm:20260422T140000
DTEND;TZID=Europe/Stockholm:20260422T180000
DTSTAMP:20260422T020538
CREATED:20260325T211138Z
LAST-MODIFIED:20260325T211143Z
UID:10000033-1776866400-1776880800@www.starild.se
SUMMARY:TaylorMade demodag
DESCRIPTION:Kontakta shopen på golf@starild.se eller 042-34 68 60 för att boka en individuell utprovningstid med deras produkt specialist. \n\n\n\nSjävklart så är du varmt välkommen att droppa in under demodagen för att prova alla klubbor från deras sortiment. \n\n\n\nVarmt välkommen!
URL:https://www.starild.se/kalender/taylormade-demodag-3/
CATEGORIES:Demodagar
END:VEVENT
BEGIN:VEVENT
DTSTART;TZID=Europe/Stockholm:20260422T170000
DTEND;TZID=Europe/Stockholm:20260422T210000
DTSTAMP:20260422T020538
CREATED:20260328T085425Z
LAST-MODIFIED:20260329T184627Z
UID:10000039-1776877200-1776891600@www.starild.se
SUMMARY:Damernas uppstart 2026
DESCRIPTION:Varmt välkommen till damernas säsongsuppstart onsdagen den 22 april. \n\n\n\n\nLäs mer om kvällen och hitta länk för anmälan
URL:https://www.starild.se/kalender/damernas-uppstart-2026/
END:VEVENT
END:VCALENDAR