BEGIN:VCALENDAR
VERSION:2.0
PRODID:-//S:t Arild Golfklubb - ECPv6.15.15//NONSGML v1.0//EN
CALSCALE:GREGORIAN
METHOD:PUBLISH
X-ORIGINAL-URL:https://www.starild.se
X-WR-CALDESC:Händelser för S:t Arild Golfklubb
REFRESH-INTERVAL;VALUE=DURATION:PT1H
X-Robots-Tag:noindex
X-PUBLISHED-TTL:PT1H
BEGIN:VTIMEZONE
TZID:Europe/Stockholm
BEGIN:DAYLIGHT
TZOFFSETFROM:+0100
TZOFFSETTO:+0200
TZNAME:CEST
DTSTART:20240331T010000
END:DAYLIGHT
BEGIN:STANDARD
TZOFFSETFROM:+0200
TZOFFSETTO:+0100
TZNAME:CET
DTSTART:20241027T010000
END:STANDARD
BEGIN:DAYLIGHT
TZOFFSETFROM:+0100
TZOFFSETTO:+0200
TZNAME:CEST
DTSTART:20250330T010000
END:DAYLIGHT
BEGIN:STANDARD
TZOFFSETFROM:+0200
TZOFFSETTO:+0100
TZNAME:CET
DTSTART:20251026T010000
END:STANDARD
BEGIN:DAYLIGHT
TZOFFSETFROM:+0100
TZOFFSETTO:+0200
TZNAME:CEST
DTSTART:20260329T010000
END:DAYLIGHT
BEGIN:STANDARD
TZOFFSETFROM:+0200
TZOFFSETTO:+0100
TZNAME:CET
DTSTART:20261025T010000
END:STANDARD
END:VTIMEZONE
BEGIN:VEVENT
DTSTART;TZID=Europe/Stockholm:20250703T110000
DTEND;TZID=Europe/Stockholm:20250703T150000
DTSTAMP:20260422T234054
CREATED:20250606T054953Z
LAST-MODIFIED:20250607T103401Z
UID:10000016-1751540400-1751554800@www.starild.se
SUMMARY:Ping demodag
DESCRIPTION:Ping demodag torsdagen den 3 juli 11:00-15:00 \n\n\n\nTräffa Pings skickliga specialister för att optimera din utrustning så den passar ditt spel och din rörelse. Passa på att testa deras nya G440-serie. \n\n\n\nDet går självklart bra att droppa in men en specifik utprovningstid bokas genom shopen på golf@starild.se eller 042-34 68 60. \n\n\n\n\n\n\n\nVarmt välkommen!
URL:https://www.starild.se/kalender/demodag-ping-2/
CATEGORIES:Demodagar
END:VEVENT
BEGIN:VEVENT
DTSTART;TZID=Europe/Stockholm:20250706T080000
DTEND;TZID=Europe/Stockholm:20250713T170000
DTSTAMP:20260422T234054
CREATED:20250606T131516Z
LAST-MODIFIED:20250606T131635Z
UID:10000018-1751788800-1752426000@www.starild.se
SUMMARY:Arildsveckan 6-13 juli
DESCRIPTION:Den festliga veckan som har en härlig blandning mellan lag- och singeltävlingar kryddad med sociala arrangemang pågår mellan den 6-13 juli. \n\n\n\n\n\n\n\n\n\nTänk på att anmäla dig i tid för att säkra din plats i de populära tävlingarna! Anmälan till respektive tävling sker på Min Golf. Under: https://www.starild.se/tavlingar/ hittar du en presentation av alla tävlingar och länkar till anmälan. \n\n\n\nHoppas att du har lust och möjlighet att vara med – varmt välkommen!
URL:https://www.starild.se/kalender/arildsveckan-6-13-juli/
END:VEVENT
BEGIN:VEVENT
DTSTART;TZID=Europe/Stockholm:20250723T110000
DTEND;TZID=Europe/Stockholm:20250723T150000
DTSTAMP:20260422T234054
CREATED:20250711T141317Z
LAST-MODIFIED:20250725T113610Z
UID:10000020-1753268400-1753282800@www.starild.se
SUMMARY:Callaway demodag
DESCRIPTION:Anmälan via QR koden nedan eller via telefon till shopen på 042-34 68 60.
URL:https://www.starild.se/kalender/callaway-demodag-onsdagen-den-23-juli-1100-1500/
CATEGORIES:Demodagar
ATTACH;FMTTYPE=image/png:https://www.starild.se/wp-content/uploads/sites/6/2025/07/Callaway-banner.png
END:VEVENT
BEGIN:VEVENT
DTSTART;TZID=Europe/Stockholm:20250728T130000
DTEND;TZID=Europe/Stockholm:20250728T170000
DTSTAMP:20260422T234054
CREATED:20250722T081134Z
LAST-MODIFIED:20250722T083145Z
UID:10000021-1753707600-1753722000@www.starild.se
SUMMARY:Titleist demodag
DESCRIPTION:På måndag den 28/7 mellan 13:00-17:00 så kommer Titleist på besök för en ny demodag. Passa på att träffa deras produktspecialist och få redan på exakt vilken modell och vilka specifikationer som passar just ditt spel bäst. \n\n\n\nVarmt välkommen!  \n\n\n\n\nKlicka här för att boka online
URL:https://www.starild.se/kalender/titleist-demodag/
CATEGORIES:Demodagar
END:VEVENT
END:VCALENDAR