BEGIN:VCALENDAR
VERSION:2.0
PRODID:-//S:t Arild Golfklubb - ECPv6.15.15//NONSGML v1.0//EN
CALSCALE:GREGORIAN
METHOD:PUBLISH
X-ORIGINAL-URL:https://www.starild.se
X-WR-CALDESC:Händelser för S:t Arild Golfklubb
REFRESH-INTERVAL;VALUE=DURATION:PT1H
X-Robots-Tag:noindex
X-PUBLISHED-TTL:PT1H
BEGIN:VTIMEZONE
TZID:Europe/Stockholm
BEGIN:DAYLIGHT
TZOFFSETFROM:+0100
TZOFFSETTO:+0200
TZNAME:CEST
DTSTART:20250330T010000
END:DAYLIGHT
BEGIN:STANDARD
TZOFFSETFROM:+0200
TZOFFSETTO:+0100
TZNAME:CET
DTSTART:20251026T010000
END:STANDARD
BEGIN:DAYLIGHT
TZOFFSETFROM:+0100
TZOFFSETTO:+0200
TZNAME:CEST
DTSTART:20260329T010000
END:DAYLIGHT
BEGIN:STANDARD
TZOFFSETFROM:+0200
TZOFFSETTO:+0100
TZNAME:CET
DTSTART:20261025T010000
END:STANDARD
BEGIN:DAYLIGHT
TZOFFSETFROM:+0100
TZOFFSETTO:+0200
TZNAME:CEST
DTSTART:20270328T010000
END:DAYLIGHT
BEGIN:STANDARD
TZOFFSETFROM:+0200
TZOFFSETTO:+0100
TZNAME:CET
DTSTART:20271031T010000
END:STANDARD
END:VTIMEZONE
BEGIN:VEVENT
DTSTART;TZID=Europe/Stockholm:20260404T120000
DTEND;TZID=Europe/Stockholm:20260404T150000
DTSTAMP:20260421T205824
CREATED:20260325T212438Z
LAST-MODIFIED:20260325T212442Z
UID:10000037-1775304000-1775314800@www.starild.se
SUMMARY:Påskafton hos Restaurang Nord & Syd S:t Arild
DESCRIPTION:
URL:https://www.starild.se/kalender/paskafton-hos-restaurang-nord-syd-st-arild/
END:VEVENT
BEGIN:VEVENT
DTSTART;TZID=Europe/Stockholm:20260405T120000
DTEND;TZID=Europe/Stockholm:20260405T150000
DTSTAMP:20260421T205824
CREATED:20260325T212652Z
LAST-MODIFIED:20260325T212657Z
UID:10000038-1775390400-1775401200@www.starild.se
SUMMARY:Påskdagen hos Restaurang Nord & Syd S:t Arild
DESCRIPTION:
URL:https://www.starild.se/kalender/paskdagen-hos-restaurang-nord-syd-st-arild/
END:VEVENT
BEGIN:VEVENT
DTSTART;TZID=Europe/Stockholm:20260418T100000
DTEND;TZID=Europe/Stockholm:20260418T150000
DTSTAMP:20260421T205824
CREATED:20260325T205701Z
LAST-MODIFIED:20260325T205705Z
UID:10000030-1776506400-1776524400@www.starild.se
SUMMARY:Callaway demodag
DESCRIPTION:Kontakta shopen på golf@starild.se eller 042-34 68 60 för att boka en individuell utprovningstid med deras produkt specialist. \n\n\n\nSjävklart så är du varmt välkommen att droppa in under demodagen för att prova alla klubbor från deras sortiment. \n\n\n\nVarmt välkommen!
URL:https://www.starild.se/kalender/callaway-demodag-4/
CATEGORIES:Demodagar
END:VEVENT
BEGIN:VEVENT
DTSTART;TZID=Europe/Stockholm:20260422T140000
DTEND;TZID=Europe/Stockholm:20260422T180000
DTSTAMP:20260421T205824
CREATED:20260325T211138Z
LAST-MODIFIED:20260325T211143Z
UID:10000033-1776866400-1776880800@www.starild.se
SUMMARY:TaylorMade demodag
DESCRIPTION:Kontakta shopen på golf@starild.se eller 042-34 68 60 för att boka en individuell utprovningstid med deras produkt specialist. \n\n\n\nSjävklart så är du varmt välkommen att droppa in under demodagen för att prova alla klubbor från deras sortiment. \n\n\n\nVarmt välkommen!
URL:https://www.starild.se/kalender/taylormade-demodag-3/
CATEGORIES:Demodagar
END:VEVENT
BEGIN:VEVENT
DTSTART;TZID=Europe/Stockholm:20260422T170000
DTEND;TZID=Europe/Stockholm:20260422T210000
DTSTAMP:20260421T205824
CREATED:20260328T085425Z
LAST-MODIFIED:20260329T184627Z
UID:10000039-1776877200-1776891600@www.starild.se
SUMMARY:Damernas uppstart 2026
DESCRIPTION:Varmt välkommen till damernas säsongsuppstart onsdagen den 22 april. \n\n\n\n\nLäs mer om kvällen och hitta länk för anmälan
URL:https://www.starild.se/kalender/damernas-uppstart-2026/
END:VEVENT
BEGIN:VEVENT
DTSTART;TZID=Europe/Stockholm:20260425T100000
DTEND;TZID=Europe/Stockholm:20260425T140000
DTSTAMP:20260421T205824
CREATED:20260325T211828Z
LAST-MODIFIED:20260325T211831Z
UID:10000035-1777111200-1777125600@www.starild.se
SUMMARY:Ping demodag
DESCRIPTION:Kontakta shopen på golf@starild.se eller 042-34 68 60 för att boka en individuell utprovningstid med deras produkt specialist. \n\n\n\nSjävklart så är du varmt välkommen att droppa in under demodagen för att prova alla klubbor från deras sortiment. \n\n\n\nVarmt välkommen!
URL:https://www.starild.se/kalender/ping-demodag-2/
CATEGORIES:Demodagar
END:VEVENT
BEGIN:VEVENT
DTSTART;TZID=Europe/Stockholm:20260426T100000
DTEND;TZID=Europe/Stockholm:20260426T150000
DTSTAMP:20260421T205824
CREATED:20260415T213253Z
LAST-MODIFIED:20260415T213254Z
UID:10000040-1777197600-1777215600@www.starild.se
SUMMARY:Poängjakten tjejer
DESCRIPTION:Välkommen Golftjej till SGF’s Poängjaktens träningsdagS:t Arild Golfklubb lördagen den 25 april \n\n\n\n🤝 Hänga och spela med andra golfintresserade tjejer✨ Träffa vår ambassadör Ellie Skoog⛳ Träning med PGA pro Therés Larsson💥 Massor av pepp\, utveckling och nya kompisar \n\n\n\nÖppen för: Tjejer upp till 18 år med hcp 54 eller lägreProgram för dagen:10.00 Start och samling 10.30 Träning närspel och putt 12.00 Lunch 13.00 Första start\, spel 9 hål på korthålsbana15.00 Samling och avslut  \n\n\n\nKostnad: 150 kronor – och då ingår träning\, spel på korthålsbana och lunch. \n\n\n\nAnmälning: Sker via Min Golf på: https://mingolf.golf.se/tavling/information/5447320>> Läs mer om Svenska Golfförbundets satsning Poängjakten på www.golf.se/poangjakten \n\n\n\nHoppas att du har lust och möjlighet att vara med – varmt välkommen!
URL:https://www.starild.se/kalender/poangjakten-tjejer/
END:VEVENT
BEGIN:VEVENT
DTSTART;TZID=Europe/Stockholm:20260512T120000
DTEND;TZID=Europe/Stockholm:20260512T180000
DTSTAMP:20260421T205824
CREATED:20260325T204148Z
LAST-MODIFIED:20260325T204249Z
UID:10000027-1778587200-1778608800@www.starild.se
SUMMARY:Titleist demodag
DESCRIPTION:Kontakta shopen på golf@starild.se eller 042-34 68 60 för att boka en individuell utprovningstid med deras produkt specialist. \n\n\n\nSjävklart så är du varmt välkommen att droppa in under demodagen för att prova alla klubbor från deras sortiment.  \n\n\n\nVarmt välkommen!
URL:https://www.starild.se/kalender/titleist-demodag-2/
CATEGORIES:Demodagar
END:VEVENT
BEGIN:VEVENT
DTSTART;TZID=Europe/Stockholm:20260530T140000
DTEND;TZID=Europe/Stockholm:20260530T180000
DTSTAMP:20260421T205824
CREATED:20260325T211312Z
LAST-MODIFIED:20260325T211315Z
UID:10000034-1780149600-1780164000@www.starild.se
SUMMARY:TaylorMade demodag
DESCRIPTION:Kontakta shopen på golf@starild.se eller 042-34 68 60 för att boka en individuell utprovningstid med deras produkt specialist. \n\n\n\nSjävklart så är du varmt välkommen att droppa in under demodagen för att prova alla klubbor från deras sortiment. \n\n\n\nVarmt välkommen!
URL:https://www.starild.se/kalender/taylormade-demodag-4/
CATEGORIES:Demodagar
END:VEVENT
BEGIN:VEVENT
DTSTART;TZID=Europe/Stockholm:20260609T120000
DTEND;TZID=Europe/Stockholm:20260609T180000
DTSTAMP:20260421T205824
CREATED:20260325T204516Z
LAST-MODIFIED:20260325T204528Z
UID:10000028-1781006400-1781028000@www.starild.se
SUMMARY:Titleist demodag
DESCRIPTION:Kontakta shopen på golf@starild.se eller 042-34 68 60 för att boka en individuell utprovningstid med deras produkt specialist. \n\n\n\nSjävklart så är du varmt välkommen att droppa in under demodagen för att prova alla klubbor från deras sortiment. \n\n\n\nVarmt välkommen!
URL:https://www.starild.se/kalender/titleist-demodag-3/
CATEGORIES:Demodagar
END:VEVENT
BEGIN:VEVENT
DTSTART;TZID=Europe/Stockholm:20260624T130000
DTEND;TZID=Europe/Stockholm:20260624T180000
DTSTAMP:20260421T205824
CREATED:20260325T205931Z
LAST-MODIFIED:20260325T205935Z
UID:10000031-1782306000-1782324000@www.starild.se
SUMMARY:Callaway demodag
DESCRIPTION:Kontakta shopen på golf@starild.se eller 042-34 68 60 för att boka en individuell utprovningstid med deras produkt specialist. \n\n\n\nSjävklart så är du varmt välkommen att droppa in under demodagen för att prova alla klubbor från deras sortiment. \n\n\n\nVarmt välkommen!
URL:https://www.starild.se/kalender/callaway-demodag-5/
CATEGORIES:Demodagar
END:VEVENT
BEGIN:VEVENT
DTSTART;TZID=Europe/Stockholm:20260709T120000
DTEND;TZID=Europe/Stockholm:20260709T160000
DTSTAMP:20260421T205824
CREATED:20260325T204733Z
LAST-MODIFIED:20260325T204738Z
UID:10000029-1783598400-1783612800@www.starild.se
SUMMARY:Titleist demodag
DESCRIPTION:Kontakta shopen på golf@starild.se eller 042-34 68 60 för att boka en individuell utprovningstid med deras produkt specialist. \n\n\n\nSjävklart så är du varmt välkommen att droppa in under demodagen för att prova alla klubbor från deras sortiment. \n\n\n\nVarmt välkommen!
URL:https://www.starild.se/kalender/titleist-demodag-4/
CATEGORIES:Demodagar
END:VEVENT
END:VCALENDAR