BEGIN:VCALENDAR
VERSION:2.0
PRODID:-//S:t Arild Golfklubb - ECPv6.15.15//NONSGML v1.0//EN
CALSCALE:GREGORIAN
METHOD:PUBLISH
X-WR-CALNAME:S:t Arild Golfklubb
X-ORIGINAL-URL:https://www.starild.se
X-WR-CALDESC:Händelser för S:t Arild Golfklubb
REFRESH-INTERVAL;VALUE=DURATION:PT1H
X-Robots-Tag:noindex
X-PUBLISHED-TTL:PT1H
BEGIN:VTIMEZONE
TZID:Europe/Stockholm
BEGIN:DAYLIGHT
TZOFFSETFROM:+0100
TZOFFSETTO:+0200
TZNAME:CEST
DTSTART:20230326T010000
END:DAYLIGHT
BEGIN:STANDARD
TZOFFSETFROM:+0200
TZOFFSETTO:+0100
TZNAME:CET
DTSTART:20231029T010000
END:STANDARD
BEGIN:DAYLIGHT
TZOFFSETFROM:+0100
TZOFFSETTO:+0200
TZNAME:CEST
DTSTART:20240331T010000
END:DAYLIGHT
BEGIN:STANDARD
TZOFFSETFROM:+0200
TZOFFSETTO:+0100
TZNAME:CET
DTSTART:20241027T010000
END:STANDARD
BEGIN:DAYLIGHT
TZOFFSETFROM:+0100
TZOFFSETTO:+0200
TZNAME:CEST
DTSTART:20250330T010000
END:DAYLIGHT
BEGIN:STANDARD
TZOFFSETFROM:+0200
TZOFFSETTO:+0100
TZNAME:CET
DTSTART:20251026T010000
END:STANDARD
END:VTIMEZONE
BEGIN:VEVENT
DTSTART;TZID=Europe/Stockholm:20240413T073000
DTEND;TZID=Europe/Stockholm:20240413T210000
DTSTAMP:20260425T134952
CREATED:20240409T100229Z
LAST-MODIFIED:20240409T100508Z
UID:10000001-1712993400-1713042000@www.starild.se
SUMMARY:Schyberg Junior Open 2024
DESCRIPTION:Elitjuniortävling över 36 hål som spelas scratch från backtee. Tävlingen spelas för 20:e året och ingår i JMI Touren. Startlista för rond 1 och 2 finns under: https://mingolf.golf.se/Competition/4251388#/competition/4251388/teetimes \n\n\n\nVarmt välkommen ut och titta på Sveriges\, Norges och Danmarks framtida världsstjärnor!
URL:https://www.starild.se/kalender/schyberg-junior-open-2024/
LOCATION:18-hålsbanan\, S:t Arild Golfklubb\, Golfvägen 48\, 26372 Skäret\, Sverige
ATTACH;FMTTYPE=image/jpeg:https://www.starild.se/wp-content/uploads/sites/6/2024/04/DSC2791.jpg
END:VEVENT
BEGIN:VEVENT
DTSTART;TZID=Europe/Stockholm:20240410T000000
DTEND;TZID=Europe/Stockholm:20240410T095000
DTSTAMP:20260425T134952
CREATED:20240409T140833Z
LAST-MODIFIED:20250527T131558Z
UID:10000006-1712707200-1712742600@www.starild.se
SUMMARY:Lätt dress av greener
DESCRIPTION:Lätt dress av greener inför Schyberg Junior Open. Banan stängd tom 09:50.
URL:https://www.starild.se/kalender/latt-dress-av-greener/
LOCATION:18-hålsbanan\, S:t Arild Golfklubb\, Golfvägen 48\, 26372 Skäret\, Sverige
ATTACH;FMTTYPE=image/jpeg:https://www.starild.se/wp-content/uploads/sites/6/2024/04/Dressning-av-greener.jpg
END:VEVENT
END:VCALENDAR