BEGIN:VCALENDAR
VERSION:2.0
PRODID:-//S:t Arild Golfklubb - ECPv6.15.15//NONSGML v1.0//EN
CALSCALE:GREGORIAN
METHOD:PUBLISH
X-WR-CALNAME:S:t Arild Golfklubb
X-ORIGINAL-URL:https://www.starild.se
X-WR-CALDESC:Händelser för S:t Arild Golfklubb
REFRESH-INTERVAL;VALUE=DURATION:PT1H
X-Robots-Tag:noindex
X-PUBLISHED-TTL:PT1H
BEGIN:VTIMEZONE
TZID:Europe/Stockholm
BEGIN:DAYLIGHT
TZOFFSETFROM:+0100
TZOFFSETTO:+0200
TZNAME:CEST
DTSTART:20230326T010000
END:DAYLIGHT
BEGIN:STANDARD
TZOFFSETFROM:+0200
TZOFFSETTO:+0100
TZNAME:CET
DTSTART:20231029T010000
END:STANDARD
BEGIN:DAYLIGHT
TZOFFSETFROM:+0100
TZOFFSETTO:+0200
TZNAME:CEST
DTSTART:20240331T010000
END:DAYLIGHT
BEGIN:STANDARD
TZOFFSETFROM:+0200
TZOFFSETTO:+0100
TZNAME:CET
DTSTART:20241027T010000
END:STANDARD
BEGIN:DAYLIGHT
TZOFFSETFROM:+0100
TZOFFSETTO:+0200
TZNAME:CEST
DTSTART:20250330T010000
END:DAYLIGHT
BEGIN:STANDARD
TZOFFSETFROM:+0200
TZOFFSETTO:+0100
TZNAME:CET
DTSTART:20251026T010000
END:STANDARD
BEGIN:DAYLIGHT
TZOFFSETFROM:+0100
TZOFFSETTO:+0200
TZNAME:CEST
DTSTART:20260329T010000
END:DAYLIGHT
BEGIN:STANDARD
TZOFFSETFROM:+0200
TZOFFSETTO:+0100
TZNAME:CET
DTSTART:20261025T010000
END:STANDARD
END:VTIMEZONE
BEGIN:VEVENT
DTSTART;TZID=Europe/Stockholm:20250609T100000
DTEND;TZID=Europe/Stockholm:20250609T140000
DTSTAMP:20260422T035952
CREATED:20250606T054136Z
LAST-MODIFIED:20250607T103514Z
UID:10000013-1749463200-1749477600@www.starild.se
SUMMARY:Callaway demodag
DESCRIPTION:Callaway demodag måndagen den 9 juni 10:00-14:00 \n\n\n\nAnmälan vi a QR-koden nedan eller via:Callaway Golf Fitting
URL:https://www.starild.se/kalender/callaway-demodag/
CATEGORIES:Demodagar
END:VEVENT
BEGIN:VEVENT
DTSTART;TZID=Europe/Stockholm:20240429T173000
DTEND;TZID=Europe/Stockholm:20240429T173000
DTSTAMP:20260422T035952
CREATED:20240409T134413Z
LAST-MODIFIED:20240409T134414Z
UID:10000003-1714411800-1714411800@www.starild.se
SUMMARY:Vårårsmöte
DESCRIPTION:Kallelsen inför vårårsmötet måndagen den 29 april gick ut i ett separat mail till er medlemmar den 4 april. Inför i år så flyttar vi till Musikhallen på Krapperup\, där vi kommer bjuda på ett möte som särskiljer sig från tidigare. Förutom information och en hel del spännande nyheter blir det fika\, mingel\, unika erbjudanden och överraskningar.Årsmöteshandlingarna kommer att skickas ut till er medlemmar via mail\, publiceras på klubbens hemsida under de skyddade medlemssidorna och finnas tillgängliga som blädder ex i klubbhuset senast två veckor innan mötet.Hoppas att du har möjlighet att vara med! Anmälan sker via Min Golf på: https://mingolf.golf.se/Competition/4383524
URL:https://www.starild.se/kalender/vararsmote/
LOCATION:Krapperups Slott – Musikhallen\, Krapperups Kyrkoväg 13\, 263 76 Nyhamnsläge\, Sverige
ATTACH;FMTTYPE=image/jpeg:https://www.starild.se/wp-content/uploads/sites/6/2024/03/Arsmotesbanner.jpg
END:VEVENT
BEGIN:VEVENT
DTSTART;TZID=Europe/Stockholm:20240420T100000
DTEND;TZID=Europe/Stockholm:20240420T130000
DTSTAMP:20260422T035952
CREATED:20240409T135233Z
LAST-MODIFIED:20250607T103520Z
UID:10000005-1713607200-1713618000@www.starild.se
SUMMARY:Demodag - Ping
DESCRIPTION:Du är varmt välkommen att droppa in för att testa men förbokning med deras produktspecialist krävs för en utprovning och görs via mail till golf@starild.se eller genom att ringa shopen på 042-34 68 60.
URL:https://www.starild.se/kalender/demodag-ping/
LOCATION:Rangen\, S:t Arild Golfklubb\, Golfvägen 48\, 263 72 Skäret\, Sverige
CATEGORIES:Demodagar
ATTACH;FMTTYPE=image/png:https://www.starild.se/wp-content/uploads/sites/6/2024/04/Ping-demo-.png
END:VEVENT
BEGIN:VEVENT
DTSTART;TZID=Europe/Stockholm:20240416T140000
DTEND;TZID=Europe/Stockholm:20240416T180000
DTSTAMP:20260422T035952
CREATED:20240409T134825Z
LAST-MODIFIED:20250607T103529Z
UID:10000004-1713276000-1713290400@www.starild.se
SUMMARY:Demodag med TaylorMade
DESCRIPTION:Du är varmt välkommen att droppa in för att testa men förbokning med deras produktspecialist krävs för en utprovning och görs via mail till golf@starild.se eller genom att ringa shopen på 042-34 68 60.
URL:https://www.starild.se/kalender/demodag-med-taylormade/
LOCATION:Rangen\, S:t Arild Golfklubb\, Golfvägen 48\, 263 72 Skäret\, Sverige
CATEGORIES:Demodagar
ATTACH;FMTTYPE=image/jpeg:https://www.starild.se/wp-content/uploads/sites/6/2024/04/TM-demo.jpg
END:VEVENT
BEGIN:VEVENT
DTSTART;TZID=Europe/Stockholm:20240415T000000
DTEND;TZID=Europe/Stockholm:20240415T085000
DTSTAMP:20260422T035952
CREATED:20240410T062419Z
LAST-MODIFIED:20240410T062420Z
UID:10000009-1713139200-1713171000@www.starild.se
SUMMARY:Luftning och dressning av greener
DESCRIPTION:Luftning och dressning av greener. Banan stängd tom 08:50.
URL:https://www.starild.se/kalender/luftning-och-dressning-av-greener/
LOCATION:18-hålsbanan\, S:t Arild Golfklubb\, Golfvägen 48\, 26372 Skäret\, Sverige
ATTACH;FMTTYPE=image/jpeg:https://www.starild.se/wp-content/uploads/sites/6/2024/04/core-aeration.jpg
END:VEVENT
BEGIN:VEVENT
DTSTART;TZID=Europe/Stockholm:20240414T094000
DTEND;TZID=Europe/Stockholm:20240414T094000
DTSTAMP:20260422T035952
CREATED:20240409T132259Z
LAST-MODIFIED:20240409T132508Z
UID:10000002-1713087600-1713087600@www.starild.se
SUMMARY:Söndagsgolfen
DESCRIPTION:Premiär för årets Söndagsgolf.  \n\n\n\nTävlingen som spelas i stort sett alla klubbtävlingsfria söndagar mellan april till oktober är öppen för alla seniorspelare (damer och herrar i åldern 22+). Allt spel skall ha sin grund i golfen som social företeelse där syftet är att träffas och umgås runt golfen och tävla när man så vill.All information om årets upplägg och länkar till anmälan för varje tävling hittar du här på hemsidan under: www.starild.se/tavlingar/
URL:https://www.starild.se/kalender/sondagsgolfen/
LOCATION:18-hålsbanan\, S:t Arild Golfklubb\, Golfvägen 48\, 26372 Skäret\, Sverige
ATTACH;FMTTYPE=image/jpeg:https://www.starild.se/wp-content/uploads/sites/6/2024/04/Sondag-edited.jpg
END:VEVENT
BEGIN:VEVENT
DTSTART;TZID=Europe/Stockholm:20240413T073000
DTEND;TZID=Europe/Stockholm:20240413T210000
DTSTAMP:20260422T035952
CREATED:20240409T100229Z
LAST-MODIFIED:20240409T100508Z
UID:10000001-1712993400-1713042000@www.starild.se
SUMMARY:Schyberg Junior Open 2024
DESCRIPTION:Elitjuniortävling över 36 hål som spelas scratch från backtee. Tävlingen spelas för 20:e året och ingår i JMI Touren. Startlista för rond 1 och 2 finns under: https://mingolf.golf.se/Competition/4251388#/competition/4251388/teetimes \n\n\n\nVarmt välkommen ut och titta på Sveriges\, Norges och Danmarks framtida världsstjärnor!
URL:https://www.starild.se/kalender/schyberg-junior-open-2024/
LOCATION:18-hålsbanan\, S:t Arild Golfklubb\, Golfvägen 48\, 26372 Skäret\, Sverige
ATTACH;FMTTYPE=image/jpeg:https://www.starild.se/wp-content/uploads/sites/6/2024/04/DSC2791.jpg
END:VEVENT
BEGIN:VEVENT
DTSTART;TZID=Europe/Stockholm:20240410T000000
DTEND;TZID=Europe/Stockholm:20240410T095000
DTSTAMP:20260422T035952
CREATED:20240409T140833Z
LAST-MODIFIED:20250527T131558Z
UID:10000006-1712707200-1712742600@www.starild.se
SUMMARY:Lätt dress av greener
DESCRIPTION:Lätt dress av greener inför Schyberg Junior Open. Banan stängd tom 09:50.
URL:https://www.starild.se/kalender/latt-dress-av-greener/
LOCATION:18-hålsbanan\, S:t Arild Golfklubb\, Golfvägen 48\, 26372 Skäret\, Sverige
ATTACH;FMTTYPE=image/jpeg:https://www.starild.se/wp-content/uploads/sites/6/2024/04/Dressning-av-greener.jpg
END:VEVENT
END:VCALENDAR