BEGIN:VCALENDAR
VERSION:2.0
PRODID:-//S:t Arild Golfklubb - ECPv6.15.15//NONSGML v1.0//EN
CALSCALE:GREGORIAN
METHOD:PUBLISH
X-WR-CALNAME:S:t Arild Golfklubb
X-ORIGINAL-URL:https://www.starild.se
X-WR-CALDESC:Händelser för S:t Arild Golfklubb
REFRESH-INTERVAL;VALUE=DURATION:PT1H
X-Robots-Tag:noindex
X-PUBLISHED-TTL:PT1H
BEGIN:VTIMEZONE
TZID:Europe/Stockholm
BEGIN:DAYLIGHT
TZOFFSETFROM:+0100
TZOFFSETTO:+0200
TZNAME:CEST
DTSTART:20240331T010000
END:DAYLIGHT
BEGIN:STANDARD
TZOFFSETFROM:+0200
TZOFFSETTO:+0100
TZNAME:CET
DTSTART:20241027T010000
END:STANDARD
BEGIN:DAYLIGHT
TZOFFSETFROM:+0100
TZOFFSETTO:+0200
TZNAME:CEST
DTSTART:20250330T010000
END:DAYLIGHT
BEGIN:STANDARD
TZOFFSETFROM:+0200
TZOFFSETTO:+0100
TZNAME:CET
DTSTART:20251026T010000
END:STANDARD
BEGIN:DAYLIGHT
TZOFFSETFROM:+0100
TZOFFSETTO:+0200
TZNAME:CEST
DTSTART:20260329T010000
END:DAYLIGHT
BEGIN:STANDARD
TZOFFSETFROM:+0200
TZOFFSETTO:+0100
TZNAME:CET
DTSTART:20261025T010000
END:STANDARD
END:VTIMEZONE
BEGIN:VEVENT
DTSTART;TZID=Europe/Stockholm:20250913T100000
DTEND;TZID=Europe/Stockholm:20250913T120000
DTSTAMP:20260422T181613
CREATED:20250825T130248Z
LAST-MODIFIED:20250825T130501Z
UID:10000023-1757757600-1757764800@www.starild.se
SUMMARY:Golfklivet - tvåmanna scamble för tjejer i alla åldrar
DESCRIPTION:Ta med dig en tjejkompis som är ny i golfen eller aldrig ens har provat på golf. Tillsammans bildar ni ett tvåmanna scramblelag och är med i en prestigelös och garanterat rolig dag på S:t Arild Golfklubbs fantastiska korthålsbana. ⛳️🏌️‍♀️VEM: Tjejer i alla åldrar\, från nybörjare till erfarna spelare📍VAR: S:t Arild Golfklubbs korthålsbana🗓️ NÄR: Lördagen den 13 september kl. 10:00-12:00Det går bra att anmäla sig som ett komplett tvåmannalag men det går även bra att anmäla sig individuellt så parar vi ihop dig med någon annan som saknar partner men vill vara med på denna festliga dag.✍️ Anmälan görs via Min Golf under: https://mingolf.golf.se/Competition/5120157 senaste den 10/9 kl 12:00Har du inget golf-id så kan du anmäla dig genom ett mail till golf@starild.seDagen är kostnadsfri och en del av satsningen Golfklivet som vi kör tillsammans med sex andra golfklubbar i nordvästra Skåne. Läs mer om Golfklivet och alla aktiviteter på https://golfklivet.se/Varmt välkommen! 😀⛳️🏌️‍♀️☀️
URL:https://www.starild.se/kalender/golfklivet-tvamanna-scamble-for-tjejer-i-alla-aldrar/
ATTACH;FMTTYPE=image/png:https://www.starild.se/wp-content/uploads/sites/6/2025/08/Golfklivet-scramble-banner-2025.png
END:VEVENT
END:VCALENDAR