BEGIN:VCALENDAR
VERSION:2.0
PRODID:-//S:t Arild Golfklubb - ECPv6.15.15//NONSGML v1.0//EN
CALSCALE:GREGORIAN
METHOD:PUBLISH
X-ORIGINAL-URL:https://www.starild.se
X-WR-CALDESC:Händelser för S:t Arild Golfklubb
REFRESH-INTERVAL;VALUE=DURATION:PT1H
X-Robots-Tag:noindex
X-PUBLISHED-TTL:PT1H
BEGIN:VTIMEZONE
TZID:Europe/Stockholm
BEGIN:DAYLIGHT
TZOFFSETFROM:+0100
TZOFFSETTO:+0200
TZNAME:CEST
DTSTART:20250330T010000
END:DAYLIGHT
BEGIN:STANDARD
TZOFFSETFROM:+0200
TZOFFSETTO:+0100
TZNAME:CET
DTSTART:20251026T010000
END:STANDARD
BEGIN:DAYLIGHT
TZOFFSETFROM:+0100
TZOFFSETTO:+0200
TZNAME:CEST
DTSTART:20260329T010000
END:DAYLIGHT
BEGIN:STANDARD
TZOFFSETFROM:+0200
TZOFFSETTO:+0100
TZNAME:CET
DTSTART:20261025T010000
END:STANDARD
BEGIN:DAYLIGHT
TZOFFSETFROM:+0100
TZOFFSETTO:+0200
TZNAME:CEST
DTSTART:20270328T010000
END:DAYLIGHT
BEGIN:STANDARD
TZOFFSETFROM:+0200
TZOFFSETTO:+0100
TZNAME:CET
DTSTART:20271031T010000
END:STANDARD
END:VTIMEZONE
BEGIN:VEVENT
DTSTART;TZID=Europe/Stockholm:20260404T120000
DTEND;TZID=Europe/Stockholm:20260404T150000
DTSTAMP:20260421T194251
CREATED:20260325T212438Z
LAST-MODIFIED:20260325T212442Z
UID:10000037-1775304000-1775314800@www.starild.se
SUMMARY:Påskafton hos Restaurang Nord & Syd S:t Arild
DESCRIPTION:
URL:https://www.starild.se/kalender/paskafton-hos-restaurang-nord-syd-st-arild/
END:VEVENT
BEGIN:VEVENT
DTSTART;TZID=Europe/Stockholm:20260405T120000
DTEND;TZID=Europe/Stockholm:20260405T150000
DTSTAMP:20260421T194251
CREATED:20260325T212652Z
LAST-MODIFIED:20260325T212657Z
UID:10000038-1775390400-1775401200@www.starild.se
SUMMARY:Påskdagen hos Restaurang Nord & Syd S:t Arild
DESCRIPTION:
URL:https://www.starild.se/kalender/paskdagen-hos-restaurang-nord-syd-st-arild/
END:VEVENT
END:VCALENDAR